BEGIN:VCALENDAR
VERSION:2.0
PRODID:-//PRISON MINISTRY OF GHANA - ECPv6.15.20//NONSGML v1.0//EN
CALSCALE:GREGORIAN
METHOD:PUBLISH
X-WR-CALNAME:PRISON MINISTRY OF GHANA
X-ORIGINAL-URL:https://prisonministryghana.org
X-WR-CALDESC:Events for PRISON MINISTRY OF GHANA
REFRESH-INTERVAL;VALUE=DURATION:PT1H
X-Robots-Tag:noindex
X-PUBLISHED-TTL:PT1H
BEGIN:VTIMEZONE
TZID:UTC
BEGIN:STANDARD
TZOFFSETFROM:+0000
TZOFFSETTO:+0000
TZNAME:UTC
DTSTART:20200101T000000
END:STANDARD
END:VTIMEZONE
BEGIN:VEVENT
DTSTART;TZID=UTC:20230922T100000
DTEND;TZID=UTC:20230924T080000
DTSTAMP:20260423T161106
CREATED:20230902T222317Z
LAST-MODIFIED:20230915T133658Z
UID:3352-1695376800-1695542400@prisonministryghana.org
SUMMARY:Prison Ministry of Ghana Biennial Retreat 2023
DESCRIPTION:PRISON MINISTRY OF GHANA RETREAT: 2023 \nWith the improved understanding and management systems now available for COVID-19 matters\, the Prison Ministry of Ghana (PMG) is organizing the 2023 Biennial Retreat for its members\, Ghana Prisons Service officers\, and major church and other partners and collaborators. \nTo be themed “Building in the strength of the Lord” (2 Chronicles 16:9a)\, the retreat will be held at the Presbyterian Women’s Centre at Abokobi on 22nd – 24th September\, 2023. \nAs usual at such retreats we have organized previously\, we shall review our programme and activities in the past especially as affected by the imperatives of COVID-19. We shall take stock of our achievements\, challenges and discuss how to improve on our activities to the benefit of the inmates. \nWe also expect to launch the commencement of our third decade as a Ministry. In attendance will be our International Partners. \nWe look forward to listening to the views and individual experience of participants in our joint effort to provide spiritual and material needs for the inmates.
URL:https://prisonministryghana.org/event/prison-ministry-of-ghana-biennial-retreat-2023/
LOCATION:Presbyterian Women’s Centre\, Abokobi\, Accra\, Ghana
CATEGORIES:Charity,Donation
END:VEVENT
BEGIN:VEVENT
DTSTART;VALUE=DATE:20211225
DTEND;VALUE=DATE:20211226
DTSTAMP:20260423T161106
CREATED:20210623T154612Z
LAST-MODIFIED:20211104T165315Z
UID:2696-1640390400-1640476799@prisonministryghana.org
SUMMARY:Appeal For 2021 Christmas Day Celebration With Inmates
DESCRIPTION:The Ministry’s annual Christmas celebration with the inmates is one of the highlights of our Ministry\, to witness effectively to our brothers and sisters behind bars and to give them the assurance that they are not forgotten as our vision for the Ministry states: “I was in prison and you came to visit me” says our Lord Jesus (Matthew 25:36). \n  \nChristmas day is a lonely day for the prisoner and without our message of “Peace on earth and mercy mild; God and sinners reconciled”\, Christmas day could be miserable! The celebration of our Lord’s birth will be more meaningful if we join hands once again\, and send cooked food and items e.g. bags of rice\, bags of flour\, biscuits\, cooking oil\, soft drinks\, tin fish\, boxes of carbolic soap\, toothpastes\, toothbrushes etc. to the prisoners. \n  \nThe total budget for the Christmas party with our brothers and sisters behind the confines of the prisons nationwide is GHC 128\,777.25. Cash or cheque donations to meet the various expenses would be greatly appreciated. Donations can be made at the National Office or into our Absa bank Gh. account no. 48/2488390 or Ecobank account no. 1441002143508 or mobile money no. 0245014186. The office will also be available to pick your donation from your location should you choose. All donations and contributions will be duly receipted and acknowledged. \n  \nWe count on your support for a successful celebration and effective ministration of Our Lord’s birth on Christmas day. Thank you and God bless you for being a part of the Ministry! \nDOWNLOAD LINK TO THE PMG 2021 CHRISTMAS BUDGET \nhttps://prisonministryghana.org/wp-content/uploads/2021/11/PMG-2021-CHRISTMAS-BUDGET.xlsx
URL:https://prisonministryghana.org/event/appeal-for-2021-christmas-party/
CATEGORIES:Charity,Donation
ATTACH;FMTTYPE=image/png:https://prisonministryghana.org/wp-content/uploads/2021/04/logo.png
END:VEVENT
BEGIN:VEVENT
DTSTART;TZID=UTC:20210623T080000
DTEND;TZID=UTC:20210623T170000
DTSTAMP:20260423T161106
CREATED:20210623T154338Z
LAST-MODIFIED:20210623T154338Z
UID:2694-1624435200-1624467600@prisonministryghana.org
SUMMARY:Biennial Retreat 2021
DESCRIPTION:The Biennial Retreat is organized for Prison Services Officers-in-charge (OICs) and Chaplains from all Prisons in Ghana as well as the Regional/District chairpersons and secretaries of the Prison Ministry of Ghana. The purpose of the retreat is to review our operations for the past two years\, take stock of our achievements\, challenges and discuss how to improve on our activities to the benefit of the inmates. \nHowever\, due to the Covid-19 situation in the country\, we are sorry to announce that this year’s Biennial Retreat has been canceled. While we are still as dedicated as ever to providing the spiritual and material needs for the inmates\, it is also our responsibility to help flatten the coronavirus curve and to keep you safe. \nPlease accept our sincerest apologies for any inconveniences this may cause. However\, we will give further communications as it is available in the coming months. \n  \nWe also take this opportunity to thank you all once again for funding\, volunteering\, and advocating for the Prison Ministry of Ghana throughout the years\, and especially at a time when all of us are facing challenges and everything feels uncertain. We humble ask the Lord to bless you with the fullness of His grace.
URL:https://prisonministryghana.org/event/biennial-retreat-2021/
CATEGORIES:Charity,Donation
ATTACH;FMTTYPE=image/png:https://prisonministryghana.org/wp-content/uploads/2021/04/logo.png
END:VEVENT
END:VCALENDAR